Package: biodb Version: 1.17.1 Command: rm -rf biodb.buildbin-libdir && mkdir biodb.buildbin-libdir && /Users/biocbuild/BBS/utils/build-universal.sh biodb_1.17.1.tar.gz /Library/Frameworks/R.framework/Resources/bin/R biodb.buildbin-libdir StartedAt: 2025-07-15 00:47:28 -0400 (Tue, 15 Jul 2025) EndedAt: 2025-07-15 00:48:47 -0400 (Tue, 15 Jul 2025) EllapsedTime: 78.3 seconds RetCode: 0 Status: OK PackageFile: biodb_1.17.1.tgz PackageFileSize: 4.293 MiB