Package: biocthis Version: 1.19.0 Command: F:\biocbuild\bbs-3.22-bioc\R\bin\R.exe CMD INSTALL biocthis StartedAt: 2025-07-24 15:41:58 -0400 (Thu, 24 Jul 2025) EndedAt: 2025-07-24 15:42:20 -0400 (Thu, 24 Jul 2025) EllapsedTime: 22.9 seconds RetCode: 0 Status: OK