Package: biocthis Version: 1.19.0 Command: chmod a+r biocthis -R && F:\biocbuild\bbs-3.22-bioc\R\bin\R.exe CMD build --keep-empty-dirs --no-resave-data biocthis StartedAt: 2025-07-24 17:49:03 -0400 (Thu, 24 Jul 2025) EndedAt: 2025-07-24 17:49:41 -0400 (Thu, 24 Jul 2025) EllapsedTime: 38.2 seconds RetCode: 0 Status: OK PackageFile: biocthis_1.19.0.tar.gz PackageFileSize: 661 KiB