Package: biocthis Version: 1.19.0 Command: /Library/Frameworks/R.framework/Resources/bin/R CMD INSTALL biocthis StartedAt: 2025-07-16 15:06:15 -0400 (Wed, 16 Jul 2025) EndedAt: 2025-07-16 15:06:19 -0400 (Wed, 16 Jul 2025) EllapsedTime: 3.5 seconds RetCode: 0 Status: OK