Package: biocmake Version: 1.1.3 Command: /home/biocbuild/R/R/bin/R CMD INSTALL biocmake StartedAt: 2025-06-26 20:13:01 -0000 (Thu, 26 Jun 2025) EndedAt: 2025-06-26 20:13:24 -0000 (Thu, 26 Jun 2025) EllapsedTime: 22.7 seconds RetCode: 0 Status: OK