Package: biocmake Version: 1.1.3 Command: /home/biocbuild/R/R/bin/R CMD check --install=check:biocmake.install-out.txt --library=/home/biocbuild/R/R/site-library --no-vignettes --timings biocmake_1.1.3.tar.gz StartedAt: 2025-06-27 04:23:32 -0000 (Fri, 27 Jun 2025) EndedAt: 2025-06-27 04:24:09 -0000 (Fri, 27 Jun 2025) EllapsedTime: 37.1 seconds RetCode: 0 Status: OK CheckDir: biocmake.Rcheck Warnings: 0