Package: biocmake Version: 1.1.3 Command: /home/biocbuild/R/R/bin/R CMD build --keep-empty-dirs --no-resave-data biocmake StartedAt: 2025-06-26 22:07:38 -0000 (Thu, 26 Jun 2025) EndedAt: 2025-06-26 22:07:45 -0000 (Thu, 26 Jun 2025) EllapsedTime: 7.0 seconds RetCode: 0 Status: OK PackageFile: biocmake_1.1.3.tar.gz PackageFileSize: 247.6 KiB