Package: biobtreeR Version: 1.21.0 Command: /home/biocbuild/R/R/bin/R CMD INSTALL biobtreeR StartedAt: 2025-06-30 20:16:00 -0000 (Mon, 30 Jun 2025) EndedAt: 2025-06-30 20:16:23 -0000 (Mon, 30 Jun 2025) EllapsedTime: 22.6 seconds RetCode: 0 Status: OK