Package: biobroom Version: 1.41.0 Command: chmod a+r biobroom -R && F:\biocbuild\bbs-3.22-bioc\R\bin\R.exe CMD build --keep-empty-dirs --no-resave-data biobroom StartedAt: 2025-08-14 18:42:08 -0400 (Thu, 14 Aug 2025) EndedAt: 2025-08-14 18:43:43 -0400 (Thu, 14 Aug 2025) EllapsedTime: 95.1 seconds RetCode: 0 Status: OK PackageFile: biobroom_1.41.0.tar.gz PackageFileSize: 371.7 KiB