Package: biobroom Version: 1.41.0 Command: /home/biocbuild/bbs-3.22-bioc/R/bin/R CMD INSTALL biobroom StartedAt: 2025-07-18 15:11:34 -0400 (Fri, 18 Jul 2025) EndedAt: 2025-07-18 15:11:38 -0400 (Fri, 18 Jul 2025) EllapsedTime: 4.6 seconds RetCode: 0 Status: OK