Package: biobroom Version: 1.41.0 Command: /home/biocbuild/bbs-3.22-bioc/R/bin/R CMD build --keep-empty-dirs --no-resave-data --md5 biobroom StartedAt: 2025-07-18 16:16:40 -0400 (Fri, 18 Jul 2025) EndedAt: 2025-07-18 16:17:29 -0400 (Fri, 18 Jul 2025) EllapsedTime: 49.1 seconds RetCode: 0 Status: OK PackageFile: biobroom_1.41.0.tar.gz PackageFileSize: 522.5 KiB