Package: biobroom Version: 1.41.0 Command: /Library/Frameworks/R.framework/Resources/bin/R CMD check --install=check:biobroom.install-out.txt --library=/Library/Frameworks/R.framework/Resources/library --no-vignettes --timings biobroom_1.41.0.tar.gz StartedAt: 2025-07-18 19:13:21 -0400 (Fri, 18 Jul 2025) EndedAt: 2025-07-18 19:15:00 -0400 (Fri, 18 Jul 2025) EllapsedTime: 99.0 seconds RetCode: 0 Status: WARNINGS CheckDir: biobroom.Rcheck Warnings: 1