Package: biobroom Version: 1.41.0 Command: /Library/Frameworks/R.framework/Resources/bin/R CMD build --keep-empty-dirs --no-resave-data biobroom StartedAt: 2025-07-18 16:03:33 -0400 (Fri, 18 Jul 2025) EndedAt: 2025-07-18 16:04:31 -0400 (Fri, 18 Jul 2025) EllapsedTime: 57.2 seconds RetCode: 0 Status: OK PackageFile: biobroom_1.41.0.tar.gz PackageFileSize: 598.9 KiB