Package: biobroom Version: 1.41.0 Command: rm -rf biobroom.buildbin-libdir && mkdir biobroom.buildbin-libdir && /Users/biocbuild/BBS/utils/build-universal.sh biobroom_1.41.0.tar.gz /Library/Frameworks/R.framework/Resources/bin/R biobroom.buildbin-libdir StartedAt: 2025-07-19 00:38:45 -0400 (Sat, 19 Jul 2025) EndedAt: 2025-07-19 00:38:55 -0400 (Sat, 19 Jul 2025) EllapsedTime: 10.1 seconds RetCode: 0 Status: OK PackageFile: biobroom_1.41.0.tgz PackageFileSize: 828 KiB