Package: biobroom Version: 1.41.0 Command: /Library/Frameworks/R.framework/Resources/bin/R CMD build --keep-empty-dirs --no-resave-data biobroom StartedAt: 2025-07-20 15:43:22 -0400 (Sun, 20 Jul 2025) EndedAt: 2025-07-20 15:43:42 -0400 (Sun, 20 Jul 2025) EllapsedTime: 20.2 seconds RetCode: 0 Status: OK PackageFile: biobroom_1.41.0.tar.gz PackageFileSize: 608.3 KiB