Package: biobroom Version: 1.41.0 Maintainer: John D. Storey and Andrew J. Bass MaintainerEmail: ajbass at emory.edu git_url: https://git.bioconductor.org/packages/biobroom git_branch: devel git_last_commit: 3852747 git_last_commit_date: 2025-04-15 10:56:14 -0400 (Tue, 15 Apr 2025)