Package: bioassayR Version: 1.47.0 Command: /home/biocbuild/R/R/bin/R CMD INSTALL bioassayR StartedAt: 2025-07-14 20:24:39 -0000 (Mon, 14 Jul 2025) EndedAt: 2025-07-14 20:24:55 -0000 (Mon, 14 Jul 2025) EllapsedTime: 15.7 seconds RetCode: 0 Status: OK