Package: bioassayR Version: 1.47.0 Command: /home/biocbuild/R/R/bin/R CMD check --install=check:bioassayR.install-out.txt --library=/home/biocbuild/R/R/site-library --no-vignettes --timings bioassayR_1.47.0.tar.gz StartedAt: 2025-07-18 04:40:44 -0000 (Fri, 18 Jul 2025) EndedAt: 2025-07-18 04:42:22 -0000 (Fri, 18 Jul 2025) EllapsedTime: 98.1 seconds RetCode: 0 Status: OK CheckDir: bioassayR.Rcheck Warnings: 0