Package: bioassayR Version: 1.47.0 Command: F:\biocbuild\bbs-3.22-bioc\R\bin\R.exe CMD check --no-multiarch --install=check:bioassayR.install-out.txt --library=F:\biocbuild\bbs-3.22-bioc\R\library --no-vignettes --timings bioassayR_1.47.0.tar.gz StartedAt: 2025-07-22 23:44:56 -0400 (Tue, 22 Jul 2025) EndedAt: 2025-07-22 23:46:45 -0400 (Tue, 22 Jul 2025) EllapsedTime: 109.1 seconds RetCode: 0 Status: OK CheckDir: bioassayR.Rcheck Warnings: 0