Package: bioassayR Version: 1.47.0 Command: /Library/Frameworks/R.framework/Resources/bin/R CMD build --keep-empty-dirs --no-resave-data bioassayR StartedAt: 2025-07-14 15:42:58 -0400 (Mon, 14 Jul 2025) EndedAt: 2025-07-14 15:43:15 -0400 (Mon, 14 Jul 2025) EllapsedTime: 17.2 seconds RetCode: 0 Status: OK PackageFile: bioassayR_1.47.0.tar.gz PackageFileSize: 1.384 MiB