Package: bioDist Version: 1.81.0 Command: /home/biocbuild/R/R/bin/R CMD check --install=check:bioDist.install-out.txt --library=/home/biocbuild/R/R/site-library --no-vignettes --timings bioDist_1.81.0.tar.gz StartedAt: 2025-07-11 05:46:52 -0000 (Fri, 11 Jul 2025) EndedAt: 2025-07-11 05:47:31 -0000 (Fri, 11 Jul 2025) EllapsedTime: 39.1 seconds RetCode: 0 Status: OK CheckDir: bioDist.Rcheck Warnings: 0