Package: bioDist Version: 1.81.0 Command: rm -rf bioDist.buildbin-libdir && mkdir bioDist.buildbin-libdir && F:\biocbuild\bbs-3.22-bioc\R\bin\R.exe CMD INSTALL --build --library=bioDist.buildbin-libdir bioDist_1.81.0.tar.gz StartedAt: 2025-08-15 09:50:26 -0400 (Fri, 15 Aug 2025) EndedAt: 2025-08-15 09:50:43 -0400 (Fri, 15 Aug 2025) EllapsedTime: 17.5 seconds RetCode: 0 Status: OK PackageFile: bioDist_1.81.0.zip PackageFileSize: 167.4 KiB