Package: bioCancer Version: 1.37.0 Command: /home/biocbuild/R/R/bin/R CMD check --install=check:bioCancer.install-out.txt --library=/home/biocbuild/R/R/site-library --no-vignettes --timings bioCancer_1.37.0.tar.gz StartedAt: 2025-07-01 04:55:23 -0000 (Tue, 01 Jul 2025) EndedAt: 2025-07-01 05:25:21 -0000 (Tue, 01 Jul 2025) EllapsedTime: 1797.6 seconds RetCode: 0 Status: WARNINGS CheckDir: bioCancer.Rcheck Warnings: 1