Package: bioCancer Version: 1.37.0 Command: F:\biocbuild\bbs-3.22-bioc\R\bin\R.exe CMD check --no-multiarch --install=check:bioCancer.install-out.txt --library=F:\biocbuild\bbs-3.22-bioc\R\library --no-vignettes --timings bioCancer_1.37.0.tar.gz StartedAt: 2025-07-13 23:47:20 -0400 (Sun, 13 Jul 2025) EndedAt: 2025-07-14 00:03:24 -0400 (Mon, 14 Jul 2025) EllapsedTime: 964.8 seconds RetCode: 0 Status: OK CheckDir: bioCancer.Rcheck Warnings: 0