Package: bioCancer Version: 1.37.0 Command: /Library/Frameworks/R.framework/Resources/bin/R CMD build --keep-empty-dirs --no-resave-data bioCancer StartedAt: 2025-07-15 16:20:39 -0400 (Tue, 15 Jul 2025) EndedAt: 2025-07-15 16:21:45 -0400 (Tue, 15 Jul 2025) EllapsedTime: 66.4 seconds RetCode: 0 Status: OK PackageFile: bioCancer_1.37.0.tar.gz PackageFileSize: 9.457 MiB