Package: bioCancer Version: 1.37.0 Command: /Library/Frameworks/R.framework/Resources/bin/R CMD build --keep-empty-dirs --no-resave-data bioCancer StartedAt: 2025-07-04 15:43:16 -0400 (Fri, 04 Jul 2025) EndedAt: 2025-07-04 15:43:39 -0400 (Fri, 04 Jul 2025) EllapsedTime: 23.3 seconds RetCode: 0 Status: OK PackageFile: bioCancer_1.37.0.tar.gz PackageFileSize: 9.459 MiB