Package: bioCancer Version: 1.37.0 Command: rm -rf bioCancer.buildbin-libdir && mkdir bioCancer.buildbin-libdir && /Users/biocbuild/BBS/utils/build-universal.sh bioCancer_1.37.0.tar.gz /Library/Frameworks/R.framework/Resources/bin/R bioCancer.buildbin-libdir StartedAt: 2025-07-04 22:11:14 -0400 (Fri, 04 Jul 2025) EndedAt: 2025-07-04 22:11:38 -0400 (Fri, 04 Jul 2025) EllapsedTime: 24.6 seconds RetCode: 0 Status: OK PackageFile: bioCancer_1.37.0.tgz PackageFileSize: 7.423 MiB