Package: bigmelon Version: 1.35.0 Command: /home/biocbuild/R/R/bin/R CMD INSTALL bigmelon StartedAt: 2025-06-30 21:28:33 -0000 (Mon, 30 Jun 2025) EndedAt: 2025-06-30 21:29:37 -0000 (Mon, 30 Jun 2025) EllapsedTime: 64.8 seconds RetCode: 0 Status: OK