Package: bigmelon Version: 1.35.0 Command: /home/biocbuild/R/R/bin/R CMD check --install=check:bigmelon.install-out.txt --library=/home/biocbuild/R/R/site-library --no-vignettes --timings bigmelon_1.35.0.tar.gz StartedAt: 2025-07-01 04:54:18 -0000 (Tue, 01 Jul 2025) EndedAt: 2025-07-01 05:24:26 -0000 (Tue, 01 Jul 2025) EllapsedTime: 1808.3 seconds RetCode: 0 Status: WARNINGS CheckDir: bigmelon.Rcheck Warnings: 5