Package: bigmelon Version: 1.35.0 Command: /home/biocbuild/R/R/bin/R CMD build --keep-empty-dirs --no-resave-data bigmelon StartedAt: 2025-06-30 22:05:54 -0000 (Mon, 30 Jun 2025) EndedAt: 2025-06-30 22:07:29 -0000 (Mon, 30 Jun 2025) EllapsedTime: 95.0 seconds RetCode: 0 Status: OK PackageFile: bigmelon_1.35.0.tar.gz PackageFileSize: 894.4 KiB