Package: bigmelon Version: 1.35.0 Command: /Library/Frameworks/R.framework/Resources/bin/R CMD check --install=check:bigmelon.install-out.txt --library=/Library/Frameworks/R.framework/Resources/library --no-vignettes --timings bigmelon_1.35.0.tar.gz StartedAt: 2025-07-04 19:10:45 -0400 (Fri, 04 Jul 2025) EndedAt: 2025-07-04 19:20:26 -0400 (Fri, 04 Jul 2025) EllapsedTime: 580.5 seconds RetCode: 0 Status: WARNINGS CheckDir: bigmelon.Rcheck Warnings: 5