Package: bigmelon Version: 1.35.0 Command: rm -rf bigmelon.buildbin-libdir && mkdir bigmelon.buildbin-libdir && /Users/biocbuild/BBS/utils/build-universal.sh bigmelon_1.35.0.tar.gz /Library/Frameworks/R.framework/Resources/bin/R bigmelon.buildbin-libdir StartedAt: 2025-07-03 00:34:19 -0400 (Thu, 03 Jul 2025) EndedAt: 2025-07-03 00:35:37 -0400 (Thu, 03 Jul 2025) EllapsedTime: 78.5 seconds RetCode: 0 Status: OK PackageFile: bigmelon_1.35.0.tgz PackageFileSize: 1.201 MiB