Package: bigmelon Version: 1.35.0 Command: /Library/Frameworks/R.framework/Resources/bin/R CMD INSTALL bigmelon StartedAt: 2025-07-01 15:31:41 -0400 (Tue, 01 Jul 2025) EndedAt: 2025-07-01 15:31:59 -0400 (Tue, 01 Jul 2025) EllapsedTime: 18.3 seconds RetCode: 0 Status: OK