Package: bigmelon Version: 1.35.0 Command: /Library/Frameworks/R.framework/Resources/bin/R CMD build --keep-empty-dirs --no-resave-data bigmelon StartedAt: 2025-07-01 15:42:37 -0400 (Tue, 01 Jul 2025) EndedAt: 2025-07-01 15:43:11 -0400 (Tue, 01 Jul 2025) EllapsedTime: 33.4 seconds RetCode: 0 Status: OK PackageFile: bigmelon_1.35.0.tar.gz PackageFileSize: 901.4 KiB