Package: bgx Version: 1.75.0 Command: F:\biocbuild\bbs-3.22-bioc\R\bin\R.exe CMD INSTALL bgx StartedAt: 2025-07-22 15:36:34 -0400 (Tue, 22 Jul 2025) EndedAt: 2025-07-22 15:37:53 -0400 (Tue, 22 Jul 2025) EllapsedTime: 79.3 seconds RetCode: 0 Status: OK