Package: bettr Version: 1.5.0 Command: chmod a+r bettr -R && F:\biocbuild\bbs-3.22-bioc\R\bin\R.exe CMD build --keep-empty-dirs --no-resave-data bettr StartedAt: 2025-07-14 17:32:28 -0400 (Mon, 14 Jul 2025) EndedAt: 2025-07-14 17:33:38 -0400 (Mon, 14 Jul 2025) EllapsedTime: 69.4 seconds RetCode: 0 Status: OK PackageFile: bettr_1.5.0.tar.gz PackageFileSize: 2.363 MiB