Package: bettr Version: 1.5.0 Command: /Library/Frameworks/R.framework/Resources/bin/R CMD INSTALL bettr StartedAt: 2025-06-29 15:17:45 -0400 (Sun, 29 Jun 2025) EndedAt: 2025-06-29 15:18:22 -0400 (Sun, 29 Jun 2025) EllapsedTime: 36.7 seconds RetCode: 0 Status: OK