Package: bettr Version: 1.5.1 Command: /Library/Frameworks/R.framework/Resources/bin/R CMD check --install=check:bettr.install-out.txt --library=/Library/Frameworks/R.framework/Resources/library --no-vignettes --timings bettr_1.5.1.tar.gz StartedAt: 2025-07-20 19:22:50 -0400 (Sun, 20 Jul 2025) EndedAt: 2025-07-20 19:26:52 -0400 (Sun, 20 Jul 2025) EllapsedTime: 242.3 seconds RetCode: 0 Status: OK CheckDir: bettr.Rcheck Warnings: 0