Package: bettr Version: 1.5.0 Command: rm -rf bettr.buildbin-libdir && mkdir bettr.buildbin-libdir && /Users/biocbuild/BBS/utils/build-universal.sh bettr_1.5.0.tar.gz /Library/Frameworks/R.framework/Resources/bin/R bettr.buildbin-libdir StartedAt: 2025-07-15 22:13:26 -0400 (Tue, 15 Jul 2025) EndedAt: 2025-07-15 22:13:38 -0400 (Tue, 15 Jul 2025) EllapsedTime: 12.2 seconds RetCode: 0 Status: OK PackageFile: bettr_1.5.0.tgz PackageFileSize: 1.731 MiB