Package: bettr Version: 1.5.0 Maintainer: Charlotte Soneson MaintainerEmail: charlottesoneson at gmail.com git_url: https://git.bioconductor.org/packages/bettr git_branch: devel git_last_commit: 4353fa2 git_last_commit_date: 2025-04-16 03:07:12 -0400 (Wed, 16 Apr 2025)