Package: betaHMM Version: 1.5.0 Command: /home/biocbuild/R/R/bin/R CMD INSTALL betaHMM StartedAt: 2025-07-07 20:24:47 -0000 (Mon, 07 Jul 2025) EndedAt: 2025-07-07 20:25:20 -0000 (Mon, 07 Jul 2025) EllapsedTime: 33.1 seconds RetCode: 0 Status: OK