Package: betaHMM Version: 1.5.0 Command: /home/biocbuild/R/R/bin/R CMD check --install=check:betaHMM.install-out.txt --library=/home/biocbuild/R/R/site-library --no-vignettes --timings betaHMM_1.5.0.tar.gz StartedAt: 2025-07-11 05:38:11 -0000 (Fri, 11 Jul 2025) EndedAt: 2025-07-11 06:08:41 -0000 (Fri, 11 Jul 2025) EllapsedTime: 1830.1 seconds RetCode: 1 Status: ERROR CheckDir: betaHMM.Rcheck Warnings: NA