Package: betaHMM Version: 1.5.0 Command: /home/biocbuild/R/R/bin/R CMD build --keep-empty-dirs --no-resave-data betaHMM StartedAt: 2025-07-07 21:50:43 -0000 (Mon, 07 Jul 2025) EndedAt: 2025-07-07 21:57:14 -0000 (Mon, 07 Jul 2025) EllapsedTime: 391.1 seconds RetCode: 0 Status: OK PackageFile: betaHMM_1.5.0.tar.gz PackageFileSize: 3.571 MiB