Package: betaHMM Version: 1.5.0 Command: chmod a+r betaHMM -R && F:\biocbuild\bbs-3.22-bioc\R\bin\R.exe CMD build --keep-empty-dirs --no-resave-data betaHMM StartedAt: 2025-07-24 17:43:04 -0400 (Thu, 24 Jul 2025) EndedAt: 2025-07-24 17:50:25 -0400 (Thu, 24 Jul 2025) EllapsedTime: 441.2 seconds RetCode: 0 Status: OK PackageFile: betaHMM_1.5.0.tar.gz PackageFileSize: 3.448 MiB