Package: betaHMM Version: 1.5.0 Command: /Library/Frameworks/R.framework/Resources/bin/R CMD INSTALL betaHMM StartedAt: 2025-07-01 15:09:22 -0400 (Tue, 01 Jul 2025) EndedAt: 2025-07-01 15:09:31 -0400 (Tue, 01 Jul 2025) EllapsedTime: 9.9 seconds RetCode: 0 Status: OK