Package: betaHMM Version: 1.5.0 Command: /Library/Frameworks/R.framework/Resources/bin/R CMD check --install=check:betaHMM.install-out.txt --library=/Library/Frameworks/R.framework/Resources/library --no-vignettes --timings betaHMM_1.5.0.tar.gz StartedAt: 2025-07-01 18:12:00 -0400 (Tue, 01 Jul 2025) EndedAt: 2025-07-01 18:15:41 -0400 (Tue, 01 Jul 2025) EllapsedTime: 220.9 seconds RetCode: 0 Status: OK CheckDir: betaHMM.Rcheck Warnings: 0