Package: beer Version: 1.13.0 Command: /home/biocbuild/R/R/bin/R CMD build --keep-empty-dirs --no-resave-data beer StartedAt: 2025-10-06 22:03:13 -0000 (Mon, 06 Oct 2025) EndedAt: 2025-10-06 22:03:14 -0000 (Mon, 06 Oct 2025) EllapsedTime: 1.0 seconds RetCode: 1 Status: ERROR PackageFile: None PackageFileSize: NA