Package: beer Version: 1.13.0 Command: /home/biocbuild/bbs-3.22-bioc/R/bin/R CMD check --install=check:beer.install-out.txt --library=/home/biocbuild/bbs-3.22-bioc/R/site-library --timings beer_1.13.0.tar.gz StartedAt: 2025-07-14 20:16:56 -0400 (Mon, 14 Jul 2025) EndedAt: 2025-07-14 20:25:42 -0400 (Mon, 14 Jul 2025) EllapsedTime: 526.2 seconds RetCode: 0 Status: OK CheckDir: beer.Rcheck Warnings: 0