Package: beer Version: 1.13.0 Command: /home/biocbuild/bbs-3.22-bioc/R/bin/R CMD build --keep-empty-dirs --no-resave-data --md5 beer StartedAt: 2025-07-14 16:19:35 -0400 (Mon, 14 Jul 2025) EndedAt: 2025-07-14 16:21:31 -0400 (Mon, 14 Jul 2025) EllapsedTime: 116.1 seconds RetCode: 0 Status: OK PackageFile: beer_1.13.0.tar.gz PackageFileSize: 647.1 KiB