Package: beer Version: 1.13.0 Command: /Library/Frameworks/R.framework/Resources/bin/R CMD build --keep-empty-dirs --no-resave-data beer StartedAt: 2025-07-24 16:40:04 -0400 (Thu, 24 Jul 2025) EndedAt: 2025-07-24 16:43:09 -0400 (Thu, 24 Jul 2025) EllapsedTime: 185.4 seconds RetCode: 0 Status: OK PackageFile: beer_1.13.0.tar.gz PackageFileSize: 610.7 KiB